BEGIN:VCALENDAR
PRODID:-//Ben Fortuna//iCal4j 0.9.20//ES
VERSION:2.0
CALSCALE:GREGORIAN
BEGIN:VEVENT
DTSTAMP:20260424T181838Z
DTSTART:20131104T110000
DTEND:20131104T133000
SUMMARY:Lección Inaugural de los Másteres Universitarios
TZID:Europe/Madrid
UID:13c468a4-4143-11e3-8870-3fe5a96f4a88
URL:http://www.upo.es/portal/impe/web/contenido/13c468a4-4143-11e3-8870-3fe5a96f4a88
LOCATION:Paraninfo.
END:VEVENT
END:VCALENDAR
