BEGIN:VCALENDAR
PRODID:-//Ben Fortuna//iCal4j 0.9.20//ES
VERSION:2.0
CALSCALE:GREGORIAN
BEGIN:VEVENT
DTSTAMP:20260425T015911Z
DTSTART:20130918T180000
DTEND:20130920T141500
SUMMARY:XI CONGRESO DE AECPA: La política en tiempos de incertidumbre
TZID:Europe/Madrid
UID:13fb73ae-84a6-11e2-9811-3fe5a96f4a88
URL:http://www.upo.es/portal/impe/web/contenido/13fb73ae-84a6-11e2-9811-3fe5a96f4a88
LOCATION:Paraninfo. UPO
END:VEVENT
END:VCALENDAR
