BEGIN:VCALENDAR
PRODID:-//Ben Fortuna//iCal4j 0.9.20//ES
VERSION:2.0
CALSCALE:GREGORIAN
BEGIN:VEVENT
DTSTAMP:20260421T071607Z
DTSTART:20140306T100000
DTEND:20140308T140000
SUMMARY:Seminario/Taller 'Viajando el Paraíso-Travelling Paradise'
TZID:Europe/Madrid
UID:14ee00c0-9aef-11e3-aca9-3fe5a96f4a88
URL:http://www.upo.es/portal/impe/web/contenido/14ee00c0-9aef-11e3-aca9-3fe5a96f4a88
LOCATION:Espacio cultural 'Antigua Guardería'\, UPO
END:VEVENT
END:VCALENDAR
