BEGIN:VCALENDAR
PRODID:-//Ben Fortuna//iCal4j 0.9.20//ES
VERSION:2.0
CALSCALE:GREGORIAN
BEGIN:VEVENT
DTSTAMP:20260423T035912Z
DTSTART:20140226T123000
DTEND:20140226T140000
SUMMARY:Investidura Doctor Honoris Causa de D. Ramón Gutiérrez
TZID:Europe/Madrid
UID:152d47fa-8a5c-11e3-be70-3fe5a96f4a88
URL:http://www.upo.es/portal/impe/web/contenido/152d47fa-8a5c-11e3-be70-3fe5a96f4a88
LOCATION:Paraninfo de la Universidad Pablo de Olavide
END:VEVENT
END:VCALENDAR
