BEGIN:VCALENDAR
PRODID:-//Ben Fortuna//iCal4j 0.9.20//ES
VERSION:2.0
CALSCALE:GREGORIAN
BEGIN:VEVENT
DTSTAMP:20260424T103754Z
DTSTART:20131127T170000
DTEND:20131127T203000
SUMMARY:Merienda y Teatro en la Flora Tristán
TZID:Europe/Madrid
UID:194be63c-55db-11e3-9429-3fe5a96f4a88
URL:http://www.upo.es/portal/impe/web/contenido/194be63c-55db-11e3-9429-3fe5a96f4a88
LOCATION:R.U. Flora Tristán
END:VEVENT
END:VCALENDAR
