BEGIN:VCALENDAR
PRODID:-//Ben Fortuna//iCal4j 0.9.20//ES
VERSION:2.0
CALSCALE:GREGORIAN
BEGIN:VEVENT
DTSTAMP:20260425T020835Z
DTSTART:20130925T100000
DTEND:20130925T120000
SUMMARY:I+D en salud en la UE
TZID:Europe/Madrid
UID:1a336409-2043-11e3-9cbd-3fe5a96f4a88
URL:http://www.upo.es/portal/impe/web/contenido/1a336409-2043-11e3-9cbd-3fe5a96f4a88
LOCATION:CABD\, salón de actos
END:VEVENT
END:VCALENDAR
