BEGIN:VCALENDAR
PRODID:-//Ben Fortuna//iCal4j 0.9.20//ES
VERSION:2.0
CALSCALE:GREGORIAN
BEGIN:VEVENT
DTSTAMP:20260424T021326Z
DTSTART:20131113T133000
DTEND:20131113T143000
SUMMARY:Presentación del libro 'Calidad y Democracia'
TZID:Europe/Madrid
UID:1ab903d8-4b7b-11e3-af08-3fe5a96f4a88
URL:http://www.upo.es/portal/impe/web/contenido/1ab903d8-4b7b-11e3-af08-3fe5a96f4a88
LOCATION:Edificio 44. primera planta
END:VEVENT
END:VCALENDAR
