BEGIN:VCALENDAR
PRODID:-//Ben Fortuna//iCal4j 0.9.20//ES
VERSION:2.0
CALSCALE:GREGORIAN
BEGIN:VEVENT
DTSTAMP:20260424T125735Z
DTSTART:20131106T100000
DTEND:20131106T130000
SUMMARY:Claustro Universitario: elecciones a Defensor/a Universitario/a
TZID:Europe/Madrid
UID:2351a5fc-3a43-11e3-8870-3fe5a96f4a88
URL:http://www.upo.es/portal/impe/web/contenido/2351a5fc-3a43-11e3-8870-3fe5a96f4a88
LOCATION:Paraninfo
END:VEVENT
END:VCALENDAR
