BEGIN:VCALENDAR
PRODID:-//Ben Fortuna//iCal4j 0.9.20//ES
VERSION:2.0
CALSCALE:GREGORIAN
BEGIN:VEVENT
DTSTAMP:20260425T032859Z
DTSTART:20130917T180000
DTEND:20130919T203000
SUMMARY:'Igualdad entre hombres y mujeres en la UE'
TZID:Europe/Madrid
UID:26b3b7be-1625-11e3-8715-3fe5a96f4a88
URL:http://www.upo.es/portal/impe/web/contenido/26b3b7be-1625-11e3-8715-3fe5a96f4a88
LOCATION:Sala Carreras. Marchena
END:VEVENT
END:VCALENDAR
