BEGIN:VCALENDAR
PRODID:-//Ben Fortuna//iCal4j 0.9.20//ES
VERSION:2.0
CALSCALE:GREGORIAN
BEGIN:VEVENT
DTSTAMP:20260424T103613Z
DTSTART:20140305T193000
DTEND:20140305T203000
SUMMARY:'La estructura jurídica de los contratos de software: cloud computing'
TZID:Europe/Madrid
UID:28328d03-a38b-11e3-a902-3fe5a96f4a88
URL:http://www.upo.es/portal/impe/web/contenido/28328d03-a38b-11e3-a902-3fe5a96f4a88
LOCATION:Edificio 6\, sala de grados
END:VEVENT
END:VCALENDAR
