BEGIN:VCALENDAR
PRODID:-//Ben Fortuna//iCal4j 0.9.20//ES
VERSION:2.0
CALSCALE:GREGORIAN
BEGIN:VEVENT
DTSTAMP:20260425T031639Z
DTSTART:20130730T100000
DTEND:20130730T110000
SUMMARY:Convenio con la Asociación de Antiguos Alumnos
TZID:Europe/Madrid
UID:3c161a92-f526-11e2-9bc8-3fe5a96f4a88
URL:http://www.upo.es/portal/impe/web/contenido/3c161a92-f526-11e2-9bc8-3fe5a96f4a88
LOCATION:Rectorado 'Rosario Valpuesta'
END:VEVENT
END:VCALENDAR
