BEGIN:VCALENDAR
PRODID:-//Ben Fortuna//iCal4j 0.9.20//ES
VERSION:2.0
CALSCALE:GREGORIAN
BEGIN:VEVENT
DTSTAMP:20260423T131838Z
DTSTART:20140218T173000
DTEND:20140218T173000
SUMMARY:Presentación del libro 'Decisiones Públicas'
TZID:Europe/Madrid
UID:3f34aa74-8fdc-11e3-bf2f-3fe5a96f4a88
URL:http://www.upo.es/portal/impe/web/contenido/3f34aa74-8fdc-11e3-bf2f-3fe5a96f4a88
LOCATION:Rectorado. Sala de Prensa
END:VEVENT
END:VCALENDAR
