BEGIN:VCALENDAR
PRODID:-//Ben Fortuna//iCal4j 0.9.20//ES
VERSION:2.0
CALSCALE:GREGORIAN
BEGIN:VEVENT
DTSTAMP:20260424T023303Z
DTSTART:20131002T170000
DTEND:20131002T190000
SUMMARY:'Estrategias para entrar en el mundo laboral'
TZID:Europe/Madrid
UID:46456b9c-29b9-11e3-9cbd-3fe5a96f4a88
URL:http://www.upo.es/portal/impe/web/contenido/46456b9c-29b9-11e3-9cbd-3fe5a96f4a88
LOCATION:Edificio 7\, sala de grados
END:VEVENT
END:VCALENDAR
