BEGIN:VCALENDAR
PRODID:-//Ben Fortuna//iCal4j 0.9.20//ES
VERSION:2.0
CALSCALE:GREGORIAN
BEGIN:VEVENT
DTSTAMP:20260419T125140Z
DTSTART:20120518T123700
DTEND:20120518T123700
SUMMARY:Jornadas Interdisciplinares en Ciencias Sociales
TZID:Europe/Madrid
UID:4e64b9f6-7413-11e1-a112-3fe5a96f4a88
URL:http://www.upo.es/portal/impe/web/contenido/4e64b9f6-7413-11e1-a112-3fe5a96f4a88
LOCATION:Universidad Pablo de Olavide. Edificio 10\, Aula 1.
END:VEVENT
END:VCALENDAR
