BEGIN:VCALENDAR
PRODID:-//Ben Fortuna//iCal4j 0.9.20//ES
VERSION:2.0
CALSCALE:GREGORIAN
BEGIN:VEVENT
DTSTAMP:20260425T025520Z
DTSTART:20131212T173000
DTEND:20131212T190000
SUMMARY:Cómo llevar a cabo una implantación de la LOPD
TZID:Europe/Madrid
UID:54023b98-6268-11e3-87d5-3fe5a96f4a88
URL:http://www.upo.es/portal/impe/web/contenido/54023b98-6268-11e3-87d5-3fe5a96f4a88
LOCATION:Edificio 6\, Sala de Grados
END:VEVENT
END:VCALENDAR
