BEGIN:VCALENDAR
PRODID:-//Ben Fortuna//iCal4j 0.9.20//ES
VERSION:2.0
CALSCALE:GREGORIAN
BEGIN:VEVENT
DTSTAMP:20260424T174047Z
DTSTART:20131205T093000
DTEND:20131205T143000
SUMMARY:Acciones Marie Sklodowska-Curie (MSCA)
TZID:Europe/Madrid
UID:57e3a6de-51be-11e3-af08-3fe5a96f4a88
URL:http://www.upo.es/portal/impe/web/contenido/57e3a6de-51be-11e3-af08-3fe5a96f4a88
LOCATION:Biblioteca\, sala de grados
END:VEVENT
END:VCALENDAR
