BEGIN:VCALENDAR
PRODID:-//Ben Fortuna//iCal4j 0.9.20//ES
VERSION:2.0
CALSCALE:GREGORIAN
BEGIN:VEVENT
DTSTAMP:20260424T122009Z
DTSTART:20131108T170000
DTEND:20131108T203000
SUMMARY:Jornadas 'Derecho Penal y Perspectivas de Futuro'
TZID:Europe/Madrid
UID:5a6af282-3ca7-11e3-8870-3fe5a96f4a88
URL:http://www.upo.es/portal/impe/web/contenido/5a6af282-3ca7-11e3-8870-3fe5a96f4a88
LOCATION:Paraninfo
END:VEVENT
END:VCALENDAR
