BEGIN:VCALENDAR
PRODID:-//Ben Fortuna//iCal4j 0.9.20//ES
VERSION:2.0
CALSCALE:GREGORIAN
BEGIN:VEVENT
DTSTAMP:20260423T225515Z
DTSTART:20131122T161100
DTEND:20131122T161100
SUMMARY:Ciclo 'El mundo editorial III: Traducir en crisis'
TZID:Europe/Madrid
UID:5fd29db8-4e08-11e3-af08-3fe5a96f4a88
URL:http://www.upo.es/portal/impe/web/contenido/5fd29db8-4e08-11e3-af08-3fe5a96f4a88
LOCATION:Edificio 7\, sala de grados
END:VEVENT
END:VCALENDAR
