BEGIN:VCALENDAR
PRODID:-//Ben Fortuna//iCal4j 0.9.20//ES
VERSION:2.0
CALSCALE:GREGORIAN
BEGIN:VEVENT
DTSTAMP:20260422T005408Z
DTSTART:20210506T180000
DTEND:20210507T140000
SUMMARY:Networking internacional para mujeres empresarias Consejo Social UPO
TZID:Europe/Madrid
UID:65794
URL:http://www.upo.es/portal/impe/web/contenido/65794
LOCATION:Plaza de San Francisco\, 1\, Sevilla\, España
END:VEVENT
END:VCALENDAR
