BEGIN:VCALENDAR
PRODID:-//Ben Fortuna//iCal4j 0.9.20//ES
VERSION:2.0
CALSCALE:GREGORIAN
BEGIN:VEVENT
DTSTAMP:20260424T032305Z
DTSTART:20131118T110000
DTEND:20131118T120000
SUMMARY:Convenio UPO - Ayuntamiento de Villamanrique de la Condesa
TZID:Europe/Madrid
UID:710122ad-4df6-11e3-af08-3fe5a96f4a88
URL:http://www.upo.es/portal/impe/web/contenido/710122ad-4df6-11e3-af08-3fe5a96f4a88
LOCATION:Rectorado\, sala de prensa
END:VEVENT
END:VCALENDAR
