BEGIN:VCALENDAR
PRODID:-//Ben Fortuna//iCal4j 0.9.20//ES
VERSION:2.0
CALSCALE:GREGORIAN
BEGIN:VEVENT
DTSTAMP:20260425T162658Z
DTSTART:20131112T110000
DTEND:20131112T123000
SUMMARY:'Tiranía\, tirano y tiranicidio en el lenguaje político de la República romana'
TZID:Europe/Madrid
UID:71373a20-4558-11e3-8870-3fe5a96f4a88
URL:http://www.upo.es/portal/impe/web/contenido/71373a20-4558-11e3-8870-3fe5a96f4a88
LOCATION:Edificio 4\, Aula 2
END:VEVENT
END:VCALENDAR
