BEGIN:VCALENDAR
PRODID:-//Ben Fortuna//iCal4j 0.9.20//ES
VERSION:2.0
CALSCALE:GREGORIAN
BEGIN:VEVENT
DTSTAMP:20260424T004235Z
DTSTART:20131107T160000
DTEND:20131108T140000
SUMMARY:"Protección de datos\, intimidad y NN.TT."
TZID:Europe/Madrid
UID:74a2c62f-1ac9-11e3-aa2d-3fe5a96f4a88
URL:http://www.upo.es/portal/impe/web/contenido/74a2c62f-1ac9-11e3-aa2d-3fe5a96f4a88
LOCATION:Salón de Grados del Edificio 7. UPO
END:VEVENT
END:VCALENDAR
