BEGIN:VCALENDAR
PRODID:-//Ben Fortuna//iCal4j 0.9.20//ES
VERSION:2.0
CALSCALE:GREGORIAN
BEGIN:VEVENT
DTSTAMP:20260424T210801Z
DTSTART:20131104T163000
DTEND:20131104T183000
SUMMARY:'Claves del éxito empresarial. La experiencia Xtraice'
TZID:Europe/Madrid
UID:7c4c0427-4555-11e3-8870-3fe5a96f4a88
URL:http://www.upo.es/portal/impe/web/contenido/7c4c0427-4555-11e3-8870-3fe5a96f4a88
LOCATION:CABD\, salón de actos
END:VEVENT
END:VCALENDAR
