BEGIN:VCALENDAR
PRODID:-//Ben Fortuna//iCal4j 0.9.20//ES
VERSION:2.0
CALSCALE:GREGORIAN
BEGIN:VEVENT
DTSTAMP:20260420T011522Z
DTSTART:20110204T101000
DTEND:20110204T101000
SUMMARY:Mesa Redonda: "Actuación en Grandes Catástrofes"
TZID:Europe/Madrid
UID:7f470221-2eab-11e0-bad7-3fe5a96f4a88
URL:http://www.upo.es/portal/impe/web/contenido/7f470221-2eab-11e0-bad7-3fe5a96f4a88
LOCATION:Sala de grados\, edificio 6. UPO
END:VEVENT
END:VCALENDAR
