BEGIN:VCALENDAR
PRODID:-//Ben Fortuna//iCal4j 0.9.20//ES
VERSION:2.0
CALSCALE:GREGORIAN
BEGIN:VEVENT
DTSTAMP:20260423T221443Z
DTSTART:20131126T170000
DTEND:20131126T200000
SUMMARY:Seminario 'La experiencia del aborto como práctica descolonizadora y despatriarcalizadora'
TZID:Europe/Madrid
UID:7fd8e8d6-55da-11e3-9429-3fe5a96f4a88
URL:http://www.upo.es/portal/impe/web/contenido/7fd8e8d6-55da-11e3-9429-3fe5a96f4a88
LOCATION:Edificio Alexander von Humboldt
END:VEVENT
END:VCALENDAR
