BEGIN:VCALENDAR
PRODID:-//Ben Fortuna//iCal4j 0.9.20//ES
VERSION:2.0
CALSCALE:GREGORIAN
BEGIN:VEVENT
DTSTAMP:20260424T114419Z
DTSTART:20131017T200000
DTEND:20131017T213000
SUMMARY:'Justicia Penal y Derecho a la Información'
TZID:Europe/Madrid
UID:7fe57ec8-3596-11e3-8870-3fe5a96f4a88
URL:http://www.upo.es/portal/impe/web/contenido/7fe57ec8-3596-11e3-8870-3fe5a96f4a88
LOCATION:Salón de Actos del Ateneo
END:VEVENT
END:VCALENDAR
