BEGIN:VCALENDAR
PRODID:-//Ben Fortuna//iCal4j 0.9.20//ES
VERSION:2.0
CALSCALE:GREGORIAN
BEGIN:VEVENT
DTSTAMP:20260424T193641Z
DTSTART:20131017T170000
DTEND:20131017T190000
SUMMARY:Ciclo 'Cine y exclusión social': '7 vírgenes'
TZID:Europe/Madrid
UID:8caf1951-31af-11e3-995a-3fe5a96f4a88
URL:http://www.upo.es/portal/impe/web/contenido/8caf1951-31af-11e3-995a-3fe5a96f4a88
LOCATION:CABD\, salon de actos
END:VEVENT
END:VCALENDAR
