BEGIN:VCALENDAR
PRODID:-//Ben Fortuna//iCal4j 0.9.20//ES
VERSION:2.0
CALSCALE:GREGORIAN
BEGIN:VEVENT
DTSTAMP:20260423T234301Z
DTSTART:20131217T200000
DTEND:20131217T213000
SUMMARY:Coro de la UPO: Concierto de Navidad
TZID:Europe/Madrid
UID:9078d0bd-5d8f-11e3-8bc2-3fe5a96f4a88
URL:http://www.upo.es/portal/impe/web/contenido/9078d0bd-5d8f-11e3-8bc2-3fe5a96f4a88
LOCATION:Auditorio de Capitanía General (Avda. Portugal\, s/n. Sevilla)
END:VEVENT
END:VCALENDAR
