BEGIN:VCALENDAR
PRODID:-//Ben Fortuna//iCal4j 0.9.20//ES
VERSION:2.0
CALSCALE:GREGORIAN
BEGIN:VEVENT
DTSTAMP:20260425T024439Z
DTSTART:20131120T160000
DTEND:20131121T200000
SUMMARY:'La Europeización del Derecho de Extranjería y Asilo'
TZID:Europe/Madrid
UID:93598c13-4556-11e3-8870-3fe5a96f4a88
URL:http://www.upo.es/portal/impe/web/contenido/93598c13-4556-11e3-8870-3fe5a96f4a88
LOCATION:Biblioteca\, sala de grados
END:VEVENT
END:VCALENDAR
