BEGIN:VCALENDAR
PRODID:-//Ben Fortuna//iCal4j 0.9.20//ES
VERSION:2.0
CALSCALE:GREGORIAN
BEGIN:VEVENT
DTSTAMP:20260420T154505Z
DTSTART:20140310T123000
DTEND:20140310T143000
SUMMARY:IV Jornadas Historia y Arte
TZID:Europe/Madrid
UID:a3fb2163-a5d8-11e3-8384-3fe5a96f4a88
URL:http://www.upo.es/portal/impe/web/contenido/a3fb2163-a5d8-11e3-8384-3fe5a96f4a88
LOCATION:Biblioteca\, sala de grados
END:VEVENT
END:VCALENDAR
