BEGIN:VCALENDAR
PRODID:-//Ben Fortuna//iCal4j 0.9.20//ES
VERSION:2.0
CALSCALE:GREGORIAN
BEGIN:VEVENT
DTSTAMP:20260422T025055Z
DTSTART:20180214T093000
DTEND:20180214T140000
SUMMARY:II Jornadas 'Terapia contra la corrupción'
TZID:Europe/Madrid
UID:a649d3ad-0a69-11e8-8abf-3fe5a96f4a88
URL:http://www.upo.es/portal/impe/web/contenido/a649d3ad-0a69-11e8-8abf-3fe5a96f4a88
LOCATION:Edificio 7\, Sala de Grados
END:VEVENT
END:VCALENDAR
