BEGIN:VCALENDAR
PRODID:-//Ben Fortuna//iCal4j 0.9.20//ES
VERSION:2.0
CALSCALE:GREGORIAN
BEGIN:VEVENT
DTSTAMP:20260424T064209Z
DTSTART:20131114T110000
DTEND:20131114T130000
SUMMARY:Taller 'Apps en Android'
TZID:Europe/Madrid
UID:b3092b04-47b2-11e3-af08-3fe5a96f4a88
URL:http://www.upo.es/portal/impe/web/contenido/b3092b04-47b2-11e3-af08-3fe5a96f4a88
LOCATION:Edificio 10\, aula de informática 4
END:VEVENT
END:VCALENDAR
