BEGIN:VCALENDAR
PRODID:-//Ben Fortuna//iCal4j 0.9.20//ES
VERSION:2.0
CALSCALE:GREGORIAN
BEGIN:VEVENT
DTSTAMP:20260424T150216Z
DTSTART:20140220T190000
DTEND:20140220T203000
SUMMARY:Coro de la UPO: Audiciones
TZID:Europe/Madrid
UID:c911caa2-88f8-11e3-86f3-3fe5a96f4a88
URL:http://www.upo.es/portal/impe/web/contenido/c911caa2-88f8-11e3-86f3-3fe5a96f4a88
LOCATION:Espacio Cultural 'Antigua Guardería'
END:VEVENT
END:VCALENDAR
