BEGIN:VCALENDAR
PRODID:-//Ben Fortuna//iCal4j 0.9.20//ES
VERSION:2.0
CALSCALE:GREGORIAN
BEGIN:VEVENT
DTSTAMP:20260425T023547Z
DTSTART:20131105T170000
DTEND:20131105T183000
SUMMARY:Conferencia Inaugural del Máster en Religiones y Sociedades
TZID:Europe/Madrid
UID:cb291f20-4147-11e3-8870-3fe5a96f4a88
URL:http://www.upo.es/portal/impe/web/contenido/cb291f20-4147-11e3-8870-3fe5a96f4a88
LOCATION:Edificio 29\, aula 106
END:VEVENT
END:VCALENDAR
