BEGIN:VCALENDAR
PRODID:-//Ben Fortuna//iCal4j 0.9.20//ES
VERSION:2.0
CALSCALE:GREGORIAN
BEGIN:VEVENT
DTSTAMP:20260420T054439Z
DTSTART:20121002T105600
DTEND:20121004T105600
SUMMARY:'Saharauis: Autodeterminación de los Pueblos\, Autodeterminación de las Mujeres'
TZID:Europe/Madrid
UID:cd4863c2-fd80-11e1-8e98-3fe5a96f4a88
URL:http://www.upo.es/portal/impe/web/contenido/cd4863c2-fd80-11e1-8e98-3fe5a96f4a88
LOCATION:Universidad Pablo de Olavide - Paraninfo
END:VEVENT
END:VCALENDAR
