BEGIN:VCALENDAR
PRODID:-//Ben Fortuna//iCal4j 0.9.20//ES
VERSION:2.0
CALSCALE:GREGORIAN
BEGIN:VEVENT
DTSTAMP:20260425T011007Z
DTSTART:20130923T103000
DTEND:20130923T133300
SUMMARY:Máster en Asesoría y Defensa Jurídica
TZID:Europe/Madrid
UID:db0d233b-21e7-11e3-9cbd-3fe5a96f4a88
URL:http://www.upo.es/portal/impe/web/contenido/db0d233b-21e7-11e3-9cbd-3fe5a96f4a88
LOCATION:salón de grados del edificio 6
END:VEVENT
END:VCALENDAR
