BEGIN:VCALENDAR
PRODID:-//Ben Fortuna//iCal4j 0.9.20//ES
VERSION:2.0
CALSCALE:GREGORIAN
BEGIN:VEVENT
DTSTAMP:20260422T234217Z
DTSTART:20140305T163000
DTEND:20140305T173000
SUMMARY:'SUPERLOLA'. De la teoría a la práctica en Trabajo Social
TZID:Europe/Madrid
UID:e1e23ff4-a37c-11e3-a902-3fe5a96f4a88
URL:http://www.upo.es/portal/impe/web/contenido/e1e23ff4-a37c-11e3-a902-3fe5a96f4a88
LOCATION:Edificio 11 Aula 2
END:VEVENT
END:VCALENDAR
