BEGIN:VCALENDAR
PRODID:-//Ben Fortuna//iCal4j 0.9.20//ES
VERSION:2.0
CALSCALE:GREGORIAN
BEGIN:VEVENT
DTSTAMP:20260420T082335Z
DTSTART:20140313T160000
DTEND:20140313T190000
SUMMARY:'De la empresa 1.0 a los entornos 2.0. Más allá del Social Media'
TZID:Europe/Madrid
UID:e1f76b9d-92f8-11e3-bf2f-3fe5a96f4a88
URL:http://www.upo.es/portal/impe/web/contenido/e1f76b9d-92f8-11e3-bf2f-3fe5a96f4a88
LOCATION:UPO
END:VEVENT
END:VCALENDAR
