BEGIN:VCALENDAR
PRODID:-//Ben Fortuna//iCal4j 0.9.20//ES
VERSION:2.0
CALSCALE:GREGORIAN
BEGIN:VEVENT
DTSTAMP:20260420T130203Z
DTSTART:20161116T113000
DTEND:20161116T123000
SUMMARY:III Encuentro Universidad Pablo de Olavide-Cuerpo Consular de Sevilla
TZID:Europe/Madrid
UID:e5fc3213-aa73-11e6-95a2-3fe5a96f4a88
URL:http://www.upo.es/portal/impe/web/contenido/e5fc3213-aa73-11e6-95a2-3fe5a96f4a88
LOCATION:Consulado de Portugal en Sevilla
END:VEVENT
END:VCALENDAR
