BEGIN:VCALENDAR
PRODID:-//Ben Fortuna//iCal4j 0.9.20//ES
VERSION:2.0
CALSCALE:GREGORIAN
BEGIN:VEVENT
DTSTAMP:20260420T124423Z
DTSTART:20140313T163000
DTEND:20140313T180000
SUMMARY:Contexto actual de la E-Administración
TZID:Europe/Madrid
UID:e84c8ff1-aa89-11e3-bb0a-3fe5a96f4a88
URL:http://www.upo.es/portal/impe/web/contenido/e84c8ff1-aa89-11e3-bb0a-3fe5a96f4a88
LOCATION:Edificio 6\, salón de grados
END:VEVENT
END:VCALENDAR
