BEGIN:VCALENDAR
PRODID:-//Ben Fortuna//iCal4j 0.9.20//ES
VERSION:2.0
CALSCALE:GREGORIAN
BEGIN:VEVENT
DTSTAMP:20260424T151851Z
DTSTART:20131212T170000
DTEND:20131213T140000
SUMMARY:VIII Reunión Científica de Especialistas en Seguridad Social
TZID:Europe/Madrid
UID:ec58d71b-6244-11e3-87d5-3fe5a96f4a88
URL:http://www.upo.es/portal/impe/web/contenido/ec58d71b-6244-11e3-87d5-3fe5a96f4a88
LOCATION:Sede Universitaria 'Olavide en Carmona'
END:VEVENT
END:VCALENDAR
