BEGIN:VCALENDAR
PRODID:-//Ben Fortuna//iCal4j 0.9.20//ES
VERSION:2.0
CALSCALE:GREGORIAN
BEGIN:VEVENT
DTSTAMP:20260420T095305Z
DTSTART:20140312T090000
DTEND:20140312T141500
SUMMARY:'Elementos de gestión ambiental'
TZID:Europe/Madrid
UID:f4972a8d-a91d-11e3-acdd-3fe5a96f4a88
URL:http://www.upo.es/portal/impe/web/contenido/f4972a8d-a91d-11e3-acdd-3fe5a96f4a88
LOCATION:Edificio 7\, sala de grados
END:VEVENT
END:VCALENDAR
