BEGIN:VCALENDAR
PRODID:-//Ben Fortuna//iCal4j 0.9.20//ES
VERSION:2.0
CALSCALE:GREGORIAN
BEGIN:VEVENT
DTSTAMP:20260424T214628Z
DTSTART:20131105T160000
DTEND:20131105T173000
SUMMARY:Sesión inaugural del Máster Universitario en Consultoría y Auditoría Laboral
TZID:Europe/Madrid
UID:f7ed3583-455d-11e3-8870-3fe5a96f4a88
URL:http://www.upo.es/portal/impe/web/contenido/f7ed3583-455d-11e3-8870-3fe5a96f4a88
LOCATION:Edificio "Alexander Von Humboldt"\, aula B11
END:VEVENT
END:VCALENDAR
