BEGIN:VCALENDAR
PRODID:-//Ben Fortuna//iCal4j 0.9.20//ES
VERSION:2.0
CALSCALE:GREGORIAN
BEGIN:VEVENT
DTSTAMP:20260424T013809Z
DTSTART:20140219T120000
DTEND:20140219T133000
SUMMARY:'Diario de una traductora...¡Siempre hay luz al final del túnel!'
TZID:Europe/Madrid
UID:fbec6b33-8e5b-11e3-be70-3fe5a96f4a88
URL:http://www.upo.es/portal/impe/web/contenido/fbec6b33-8e5b-11e3-be70-3fe5a96f4a88
LOCATION:Biblioteca\, sala de grados
END:VEVENT
END:VCALENDAR
