BEGIN:VCALENDAR
PRODID:-//Ben Fortuna//iCal4j 0.9.20//ES
VERSION:2.0
CALSCALE:GREGORIAN
BEGIN:VEVENT
DTSTAMP:20260424T114424Z
DTSTART:20131105T170000
DTEND:20131105T183000
SUMMARY:Lección Inaugural Másteres 'Finanzas y Banca' & 'Contabilidad Directiva'
TZID:Europe/Madrid
UID:fe3dd586-4149-11e3-8870-3fe5a96f4a88
URL:http://www.upo.es/portal/impe/web/contenido/fe3dd586-4149-11e3-8870-3fe5a96f4a88
LOCATION:Biblioteca\, sala de grados
END:VEVENT
END:VCALENDAR
