BEGIN:VCALENDAR
PRODID:-//Ben Fortuna//iCal4j 0.9.20//ES
VERSION:2.0
CALSCALE:GREGORIAN
BEGIN:VEVENT
DTSTAMP:20260425T022217Z
DTSTART:20131001T120000
DTEND:20131001T133000
SUMMARY:El valor del cuento en el ámbito pedagógico y social
TZID:Europe/Madrid
UID:fe6bd1ba-25d4-11e3-9cbd-3fe5a96f4a88
URL:http://www.upo.es/portal/impe/web/contenido/fe6bd1ba-25d4-11e3-9cbd-3fe5a96f4a88
LOCATION:CABD\, salón de actos
END:VEVENT
END:VCALENDAR
