BEGIN:VCALENDAR
VERSION:2.0
PRODID:-//CIPEC- Grupo de Investigación en Ciencias Penales y Criminológicas (SEJ 047) - ECPv5.15.0.1//NONSGML v1.0//EN
CALSCALE:GREGORIAN
METHOD:PUBLISH
X-WR-CALNAME:CIPEC- Grupo de Investigación en Ciencias Penales y Criminológicas (SEJ 047)
X-ORIGINAL-URL:https://www.upo.es/investiga/cipec
X-WR-CALDESC:Eventos para CIPEC- Grupo de Investigación en Ciencias Penales y Criminológicas (SEJ 047)
REFRESH-INTERVAL;VALUE=DURATION:PT1H
X-Robots-Tag:noindex
X-PUBLISHED-TTL:PT1H
BEGIN:VTIMEZONE
TZID:Europe/Madrid
BEGIN:DAYLIGHT
TZOFFSETFROM:+0100
TZOFFSETTO:+0200
TZNAME:CEST
DTSTART:20130331T010000
END:DAYLIGHT
BEGIN:STANDARD
TZOFFSETFROM:+0200
TZOFFSETTO:+0100
TZNAME:CET
DTSTART:20131027T010000
END:STANDARD
END:VTIMEZONE
BEGIN:VEVENT
DTSTART;TZID=Europe/Madrid:20131108T080000
DTEND;TZID=Europe/Madrid:20131115T170000
DTSTAMP:20260420T083331
CREATED:20210604T103835Z
LAST-MODIFIED:20210702T111558Z
UID:2245-1383897600-1384534800@www.upo.es
SUMMARY:Reforma penal y perspectivas de futuro
DESCRIPTION:Organiza:  royecto FEDER/UPO: 1255802 “Los delitos de opinión y libertad de expresión: un análisis interdisciplinar. La ¿(de) construcción de una sociedad (in) tolerante?” Colaboran: Facultad de Derecho\, UPO; Departamento de Derecho privado\, UPO. Fecha: 24 de Junio de 2021 Dirección: Prof. Dr. César Hornero Méndez (UPO) 						\n				\n				\n				\n					\n			\n						\n							\n							\n						Programa\n		\n					\n		\n				\n				\n					\n		\n				\n			\n								\n				\n																														\n				\n					\n		\n							\n		\n				\n						\n					\n			\n								\n				\n			Noticias		\n				\n				\n						\n					\n			\n								\n				\n							Eventos UPO: SEMINARIO ONLINE SOBRE COVID-19 Y PRISIÓN: Gestión de la pandemia en distintos sistemas penitenciarios.Diario de la Universidad Pablo de Olavide: SEMINARIO ONLINE SOBRE COVID-19 Y PRISIÓN: Gestión de la pandemia en distintos sistemas penitenciarios.
URL:https://www.upo.es/investiga/cipec/actividad/reforma-penal-y-perspectivas-de-futuro/
END:VEVENT
END:VCALENDAR