BEGIN:VCALENDAR
VERSION:2.0
PRODID:-//MetropoliAnd - ECPv6.0.12//NONSGML v1.0//EN
CALSCALE:GREGORIAN
METHOD:PUBLISH
X-WR-CALNAME:MetropoliAnd
X-ORIGINAL-URL:https://www.upo.es/metropoliand
X-WR-CALDESC:Eventos para MetropoliAnd
REFRESH-INTERVAL;VALUE=DURATION:PT1H
X-Robots-Tag:noindex
X-PUBLISHED-TTL:PT1H
BEGIN:VTIMEZONE
TZID:UTC
BEGIN:STANDARD
TZOFFSETFROM:+0000
TZOFFSETTO:+0000
TZNAME:UTC
DTSTART:20210101T000000
END:STANDARD
END:VTIMEZONE
BEGIN:VEVENT
DTSTART;TZID=UTC:20230330T110000
DTEND;TZID=UTC:20230330T150000
DTSTAMP:20260420T231207
CREATED:20230328T105352Z
LAST-MODIFIED:20230328T110223Z
UID:897-1680174000-1680188400@www.upo.es
SUMMARY:Seminario: The challenge of knowledge generation in urban areas: the application of advanced tools for data analysis
DESCRIPTION:El jueves día 30 de marzo de 2023 desde las 11 horas\, tendrá lugar el seminario “The challenge of knowledge generation in urban areas: the application of advanced tools for data analysis.” \n\n\n\nEn este seminario online\, organizado por la línea de investigación UPOMetropoli del PTyP\, se debatirá con expertos internacionales la importancia de generar información y conocimiento en las áreas urbanas funcionales para combatir de forma más efectiva los retos globales desde estos territorios. 
URL:https://www.upo.es/metropoliand/ver-evento/seminario-the-challenge-of-knowledge-generation-in-urban-areas-the-application-of-advanced-tools-for-data-analysis/
ATTACH;FMTTYPE=image/jpeg:https://www.upo.es/metropoliand/wp-content/uploads/2023/03/Seminario-3003.jpg
END:VEVENT
BEGIN:VEVENT
DTSTART;TZID=UTC:20210719T080000
DTEND;TZID=UTC:20210721T170000
DTSTAMP:20260420T231207
CREATED:20210412T090611Z
LAST-MODIFIED:20210719T143625Z
UID:869-1626681600-1626886800@www.upo.es
SUMMARY:La dinámica metropolitana de las ciudades: retos para la gobernanza y la gestión de las áreas metropolitanas
DESCRIPTION:Este verano estaremos en la sede Olavide en Carmona para organizar este curso de 20 horas en las que profundizaremos en la gobernanza y la cooperación a escala metropolitana.  \n\n\n\nLas ciudades del siglo XXI están adoptando una realidad metropolitana provocando que la vida de los ciudadanos se articule en un marco territorial intermunicipal condicionado por la movilidad residencia-trabajo y por el ocio. Pero se produce un desajuste entre la realidad espacial de vida cotidiana que es metropolitana y la definición administrativa del territorio que hace que las políticas públicas estén circunscritas al termino municipal.Desde diferentes ámbitos se viene destacando la necesidad de superar esta diferencia entre la ciudad real (metropolitana) y la ciudad administrativa (municipio) articulando procesos de cooperación multinivel que hagan que las políticas públicas adquieran una dimensión metropolitana de cara a conseguir un desarrollo urbano sostenible e integrado que contribuya a mejorar la calidad de vida de los ciudadanos. Por lo tanto\, se hace imprescindible avanzar en nuevas fórmulas de gobernanza y gestión pública de ámbito metropolitano.El objetivo del curso es dar a conocer los elementos fundamentales que sirven como marco de conocimiento para avanzar en nuevas fórmulas de gobernanza y de gestión de servicios públicos de ámbito metropolitano\, con una especial atención a los retos que se presentan para el desarrollo funcional del área metropolitana de Sevilla. \n\n\n\n70 € (50 € en modalidad presencial)
URL:https://www.upo.es/metropoliand/ver-evento/la-dinamica-metropolitana-de-las-ciudades-retos-para-la-gobernanza-y-la-gestion-de-las-areas-metropolitanas/
LOCATION:Sede Olavide en Carmona\, Carmona\, España\, 41410
END:VEVENT
BEGIN:VEVENT
DTSTART;TZID=UTC:20210317T090000
DTEND;TZID=UTC:20210317T143000
DTSTAMP:20260420T231207
CREATED:20210315T121008Z
LAST-MODIFIED:20210412T090810Z
UID:835-1615971600-1615991400@www.upo.es
SUMMARY:PRIMER FORO METROPOLITANO DE SEVILLA
DESCRIPTION:El Ayuntamiento de Sevilla a través del Plan Estratégico Sevilla 2030 y la Universidad Pablo de Olavide en el marco del proyecto MetropoliAnd\, tienen el placer de presentar este evento que tendrá lugar el próximo miércoles 17 de marzo de 2021 en el FIBES-Palacio de Exposiciones y Congresos de Sevilla entre las 9h y las 14.30h. \n\n\n\nEl Foro Metropolitano tiene como finalidad la generación de un espacio de debate\, encuentro y colaboración que contribuya a la necesaria cooperación entre todos los actores de cara a la configuración de un proyecto de desarrollo integrado para el área metropolitana de Sevilla. \n\n\n\nEn este mismo correo se adjunta el programa en formato PDF. El evento será retransmitido en streaming a través de este enlace: https://www.fibes.es/events/foro-metropolitano-de-sevilla/
URL:https://www.upo.es/metropoliand/ver-evento/primer-foro-metropolitano-de-sevilla/
LOCATION:FIBES – Palacio de Exposiciones y Congresos de Sevilla\, Av. Alcalde Luis Uruñuela\, 1\, Sevilla\, España\, 41020\, España
ATTACH;FMTTYPE=image/jpeg:https://www.upo.es/metropoliand/wp-content/uploads/2021/03/METROP-HZTAL-MARZO-logos-sin-org-colab-.jpg
END:VEVENT
END:VCALENDAR